BEGIN:VCALENDAR
VERSION:2.0
PRODID:-//Ambachtshoeve.nu - ECPv6.15.17.1//NONSGML v1.0//EN
CALSCALE:GREGORIAN
METHOD:PUBLISH
X-WR-CALNAME:Ambachtshoeve.nu
X-ORIGINAL-URL:https://ambachtshoeve.nu
X-WR-CALDESC:Evenementen voor Ambachtshoeve.nu
REFRESH-INTERVAL;VALUE=DURATION:PT1H
X-Robots-Tag:noindex
X-PUBLISHED-TTL:PT1H
BEGIN:VTIMEZONE
TZID:Europe/Amsterdam
BEGIN:DAYLIGHT
TZOFFSETFROM:+0100
TZOFFSETTO:+0200
TZNAME:CEST
DTSTART:20240331T010000
END:DAYLIGHT
BEGIN:STANDARD
TZOFFSETFROM:+0200
TZOFFSETTO:+0100
TZNAME:CET
DTSTART:20241027T010000
END:STANDARD
BEGIN:DAYLIGHT
TZOFFSETFROM:+0100
TZOFFSETTO:+0200
TZNAME:CEST
DTSTART:20250330T010000
END:DAYLIGHT
BEGIN:STANDARD
TZOFFSETFROM:+0200
TZOFFSETTO:+0100
TZNAME:CET
DTSTART:20251026T010000
END:STANDARD
BEGIN:DAYLIGHT
TZOFFSETFROM:+0100
TZOFFSETTO:+0200
TZNAME:CEST
DTSTART:20260329T010000
END:DAYLIGHT
BEGIN:STANDARD
TZOFFSETFROM:+0200
TZOFFSETTO:+0100
TZNAME:CET
DTSTART:20261025T010000
END:STANDARD
END:VTIMEZONE
BEGIN:VEVENT
DTSTART;TZID=Europe/Amsterdam:20250607T120000
DTEND;TZID=Europe/Amsterdam:20250607T170000
DTSTAMP:20260419T141732
CREATED:20241202T143212Z
LAST-MODIFIED:20241202T143212Z
UID:3228-1749297600-1749315600@ambachtshoeve.nu
SUMMARY:Workshop Lepel snijden
DESCRIPTION:Op zaterdag 7 juni 2025 organiseert Eemlepel een workshops lepel snijden waar je de fijne kneepjes van het lepel snijden leert. In een middag ga je lekker aan de slag met een vers stuk wilgen\, berken en andere inheemse houtsoorten. \n \nIn de workshop lepel snijden komen naast veiligheid en mesvaardigheid ook verschillende mesgrepen voorbij en leer je houtlezen: een taal die je nog vaak van pas kan komen.Je werkt met het lepelmes en houtsnijmes van Morakniv die beiden speciaal voor het lepel snijden zijn ontwikkeld en die beiden zeer scherp zijn. Na afloop van de cursus heb je de mogelijkheid om de messen waarmee je gewerkt hebt over te nemen voor een scherpe prijs\, zodat je thuis verder kunt werken aan je vaardigheden en je lepelverzameling kan groeien. Daarnaast nemen we ook handig slijpmateriaal mee om je gereedschap scherp te houden. \nVoor deze cursus is geen ervaring vereist. \nPrijs: € 70\,- \nMinimum leeftijd: 12 t/m 16 jaar onder begeleiding door ouder\, deelname voor kind € 35\nMaximaal aantal deelnemers: 12 \nDe workshop is inclusief vers hout\, gebruik van gereedschap en hakblok\, koffie\, thee en een vers gebakken stuk appeltaart. \n  \nWil je meedoen aan een van beide workshops stuur dan een mailtje met je naam\, adres en telefoonnummer naar info@eemlepel.nl o.v.v. Workshop lepel snijden zaterdag 7 juni. Wanneer je een Gmail account hebt check dan s.v.p je spambox. \n 
URL:https://ambachtshoeve.nu/evenement/workshop-lepel-snijden-25/
LOCATION:Hoeve Groot Zandbrink\, Postweg 2\, Leusden\, Utrecht\, 3831 SE\, Nederland
CATEGORIES:Expositieruimte,Werkschuur,Workshop
ORGANIZER;CN="Eemlepel":MAILTO:info@eemlepel.nl
END:VEVENT
BEGIN:VEVENT
DTSTART;TZID=Europe/Amsterdam:20250621T093000
DTEND;TZID=Europe/Amsterdam:20250621T160000
DTSTAMP:20260419T141732
CREATED:20250417T191812Z
LAST-MODIFIED:20250417T192723Z
UID:3326-1750498200-1750521600@ambachtshoeve.nu
SUMMARY:Workshop Smeden
DESCRIPTION:De workshop is voor iedereen die wil kennismaken met smeden of als je al eens gesmeed hebt maar er geen genoeg van kunt krijgen. \nSmeden is een oude ambacht waar handvaardigheid\, oog-hand-coordinatie en creativiteit veel van je vragen. \nIn deze workshop beginnen we de dag eenvoudig met enkele basisvaardigheden zoals rond en vierkant smeden\, puntje maken en vormen. Hieraan zullen drijven\, innemen\, pennen en ponsen toevoegen. Natuurlijk gaat het niet alleen om de technieken maar vooral ook om iets te maken en mee naar huis te kunnen nemen. Dus na de oefening van een of meer van de technieken gaan jullie ze toepassen op een geschikt werkstukje. \nTijd: 9:30-16:00 uur \nLocatie: Hoeve Groot Zandbrink\, Postweg 2 3831 SE leusden\nDocent: Thijs Nagtegaal \nBelangrijk: De workshop buiten gegeven. Bij erg slecht weer zullen we de workshop moeten annuleren; in overleg zal een andere datum aangeboden worden of restitutie plaatsvinden.\nMeenemen: Graag zelf je eigen lunch meenemen\, voor koffie en thee wordt gezorgd. Maar je kunt ook iets kopen in ons mooie theehuis.\nKosten: 70\,00 euro\nAanmelden of vragen: stuur een mail naar contact@ambachtshoeve.nu \nMaximum aantal deelnemers: 6 \nKleding/bescherming: werk-/kluskleding (katoen is meest brandveilig)\, eventueel gehoorbescherming en leren handschoen(en); veiligheidsbrillen/schorten zijn aanwezig. \n  \n 
URL:https://ambachtshoeve.nu/evenement/workshop-smeden-2/
LOCATION:Hoeve Groot Zandbrink\, Postweg 2\, Leusden\, Utrecht\, 3831 SE\, Nederland
CATEGORIES:Buiten activiteit,Workshop
ORGANIZER;CN="Thijs Nagtegal":MAILTO:info@smederij-nagtegaal.nl
END:VEVENT
BEGIN:VEVENT
DTSTART;TZID=Europe/Amsterdam:20250628T093000
DTEND;TZID=Europe/Amsterdam:20250628T160000
DTSTAMP:20260419T141732
CREATED:20250417T191832Z
LAST-MODIFIED:20250417T192626Z
UID:3329-1751103000-1751126400@ambachtshoeve.nu
SUMMARY:Workshop Smeden
DESCRIPTION:De workshop is voor iedereen die wil kennismaken met smeden of als je al eens gesmeed hebt maar er geen genoeg van kunt krijgen. \nSmeden is een oude ambacht waar handvaardigheid\, oog-hand-coordinatie en creativiteit veel van je vragen. \nIn deze workshop beginnen we de dag eenvoudig met enkele basisvaardigheden zoals rond en vierkant smeden\, puntje maken en vormen. Hieraan zullen drijven\, innemen\, pennen en ponsen toevoegen. Natuurlijk gaat het niet alleen om de technieken maar vooral ook om iets te maken en mee naar huis te kunnen nemen. Dus na de oefening van een of meer van de technieken gaan jullie ze toepassen op een geschikt werkstukje. \nTijd: 9:30-16:00 uur \nLocatie: Hoeve Groot Zandbrink\, Postweg 2 3831 SE leusden\nDocent: Thijs Nagtegaal \nBelangrijk: De workshop buiten gegeven. Bij erg slecht weer zullen we de workshop moeten annuleren; in overleg zal een andere datum aangeboden worden of restitutie plaatsvinden.\nMeenemen: Graag zelf je eigen lunch meenemen\, voor koffie en thee wordt gezorgd. Maar je kunt ook iets kopen in ons mooie theehuis.\nKosten: 70\,00 euro\nAanmelden of vragen: stuur een mail naar contact@ambachtshoeve.nu \nMaximum aantal deelnemers: 6 \nKleding/bescherming: werk-/kluskleding (katoen is meest brandveilig)\, eventueel gehoorbescherming en leren handschoen(en); veiligheidsbrillen/schorten zijn aanwezig. \n 
URL:https://ambachtshoeve.nu/evenement/workshop-smeden-3/
LOCATION:Hoeve Groot Zandbrink\, Postweg 2\, Leusden\, Utrecht\, 3831 SE\, Nederland
CATEGORIES:Buiten activiteit,Workshop
ORGANIZER;CN="Thijs Nagtegal":MAILTO:info@smederij-nagtegaal.nl
END:VEVENT
END:VCALENDAR