BEGIN:VCALENDAR
VERSION:2.0
PRODID:-//Ambachtshoeve.nu - ECPv6.15.17.1//NONSGML v1.0//EN
CALSCALE:GREGORIAN
METHOD:PUBLISH
X-WR-CALNAME:Ambachtshoeve.nu
X-ORIGINAL-URL:https://ambachtshoeve.nu
X-WR-CALDESC:Evenementen voor Ambachtshoeve.nu
REFRESH-INTERVAL;VALUE=DURATION:PT1H
X-Robots-Tag:noindex
X-PUBLISHED-TTL:PT1H
BEGIN:VTIMEZONE
TZID:Europe/Amsterdam
BEGIN:DAYLIGHT
TZOFFSETFROM:+0100
TZOFFSETTO:+0200
TZNAME:CEST
DTSTART:20240331T010000
END:DAYLIGHT
BEGIN:STANDARD
TZOFFSETFROM:+0200
TZOFFSETTO:+0100
TZNAME:CET
DTSTART:20241027T010000
END:STANDARD
BEGIN:DAYLIGHT
TZOFFSETFROM:+0100
TZOFFSETTO:+0200
TZNAME:CEST
DTSTART:20250330T010000
END:DAYLIGHT
BEGIN:STANDARD
TZOFFSETFROM:+0200
TZOFFSETTO:+0100
TZNAME:CET
DTSTART:20251026T010000
END:STANDARD
BEGIN:DAYLIGHT
TZOFFSETFROM:+0100
TZOFFSETTO:+0200
TZNAME:CEST
DTSTART:20260329T010000
END:DAYLIGHT
BEGIN:STANDARD
TZOFFSETFROM:+0200
TZOFFSETTO:+0100
TZNAME:CET
DTSTART:20261025T010000
END:STANDARD
END:VTIMEZONE
BEGIN:VEVENT
DTSTART;TZID=Europe/Amsterdam:20250301T093000
DTEND;TZID=Europe/Amsterdam:20250301T120000
DTSTAMP:20260419T191320
CREATED:20241021T101156Z
LAST-MODIFIED:20241123T102440Z
UID:3014-1740821400-1740830400@ambachtshoeve.nu
SUMMARY:Workshop Spinnen (dagdeel 1/3)
DESCRIPTION:Je maakt kennis met het spinnen met verschillende spinnenwielen. Je leert ‘trappen’. Dan ga je aan de slag en je kunt ervaren wat er allemaal bij spinnen komt kijken. Ook allerlei uitdagingen die zich hierbij kunnen voordoen\, worden besproken. Je ontwikkelt vervolgens je eigen stijl (de een spint dun\, de ander dik). \n \nLet op: Deze workshop bestaat uit 3 dagdelen.\nDatum: Zaterdag 1 Maart 2025 \nInclusief: Wol\, koffie/thee/koek\nBelangrijk: Deze workshop wordt in de Expositieruimte gegeven. Het is handig om kleren aan te doen die vuil mogen worden\, want de wol is dat ook. Spinnen kan – vooral in het begin – best vermoeiend zijn\, vandaar dat we dit aanleren in 3 ochtenden. \nExtra: Na afloop van deze workshop organiseren we een workshop Wol verven met natuurlijke grondstoffen\, deze keer zijn dat uienschillen. Het is erg leuk om je eigen wol te verven. Meer info hierover volgt binnenkort. \n 
URL:https://ambachtshoeve.nu/evenement/workshop-spinnen-dagdeel-1-3-2/
LOCATION:Hoeve Groot Zandbrink\, Postweg 2\, Leusden\, Utrecht\, 3831 SE\, Nederland
CATEGORIES:Expositieruimte,Workshop
END:VEVENT
BEGIN:VEVENT
DTSTART;TZID=Europe/Amsterdam:20250301T093000
DTEND;TZID=Europe/Amsterdam:20250301T163000
DTSTAMP:20260419T191320
CREATED:20241021T101812Z
LAST-MODIFIED:20241123T102516Z
UID:3032-1740821400-1740846600@ambachtshoeve.nu
SUMMARY:Workshop Stoelmatten (dag 3/3)
DESCRIPTION:Je gaat aan de slag met je eigen stoel. Je krijgt materiaal en uitleg en je leert gaandeweg om je eigen stoel van een nieuwe zitting te voorzien. Je kunt dit in 3 zaterdagen voor elkaar krijgen. Werk je tussendoor thuis ook aan je stoel\, dan kun je deze workshop eerder afronden (er vindt dan overigens geen restitutie van een deel van het cursusgeld plaats). \nLet op: Deze workshop bestaat uit 3 dagen.\nDatum: Zaterdag 1 Maart 2025\nTijd: 09.30 – 16.30 uur\nBelangrijk: Deze workshop wordt in de Expositieruimte gegeven. Dit is een grote ruimte; het is handig om lekkere warme kleren aan te doen.\nDeze workshop gaat over het maken van een biezen zitting (dus geen gaatjes). \nMeenemen: Graag zelf een lunch meenemen. \n 
URL:https://ambachtshoeve.nu/evenement/workshop-stoelmatten-dag-3-3/
LOCATION:Hoeve Groot Zandbrink\, Postweg 2\, Leusden\, Utrecht\, 3831 SE\, Nederland
CATEGORIES:Expositieruimte,Workshop
END:VEVENT
BEGIN:VEVENT
DTSTART;TZID=Europe/Amsterdam:20250308T093000
DTEND;TZID=Europe/Amsterdam:20250308T120000
DTSTAMP:20260419T191320
CREATED:20241021T101230Z
LAST-MODIFIED:20241123T102559Z
UID:3017-1741426200-1741435200@ambachtshoeve.nu
SUMMARY:Workshop Spinnen (dagdeel 2/3)
DESCRIPTION:Je maakt kennis met het spinnen met verschillende spinnenwielen. Je leert ‘trappen’. Dan ga je aan de slag en je kunt ervaren wat er allemaal bij spinnen komt kijken. Ook allerlei uitdagingen die zich hierbij kunnen voordoen\, worden besproken. Je ontwikkelt vervolgens je eigen stijl (de een spint dun\, de ander dik). \n \nLet op: Deze workshop bestaat uit 3 dagdelen.\nDatum: Zaterdag 8 Maart 2025 \nInclusief: Wol\, koffie/thee/koek\nBelangrijk: Deze workshop wordt in de Expositieruimte gegeven. Het is handig om kleren aan te doen die vuil mogen worden\, want de wol is dat ook. Spinnen kan – vooral in het begin – best vermoeiend zijn\, vandaar dat we dit aanleren in 3 ochtenden. \nExtra: Na afloop van deze workshop organiseren we een workshop Wol verven met natuurlijke grondstoffen\, deze keer zijn dat uienschillen. Het is erg leuk om je eigen wol te verven. Meer info hierover volgt binnenkort. \n 
URL:https://ambachtshoeve.nu/evenement/workshop-spinnen-dagdeel-2-3-2/
LOCATION:Hoeve Groot Zandbrink\, Postweg 2\, Leusden\, Utrecht\, 3831 SE\, Nederland
CATEGORIES:Expositieruimte,Workshop
END:VEVENT
BEGIN:VEVENT
DTSTART;TZID=Europe/Amsterdam:20250315T093000
DTEND;TZID=Europe/Amsterdam:20250315T120000
DTSTAMP:20260419T191320
CREATED:20241021T101251Z
LAST-MODIFIED:20241123T102638Z
UID:3020-1742031000-1742040000@ambachtshoeve.nu
SUMMARY:Workshop Spinnen (dagdeel 3/3)
DESCRIPTION:Je maakt kennis met het spinnen met verschillende spinnenwielen. Je leert ‘trappen’. Dan ga je aan de slag en je kunt ervaren wat er allemaal bij spinnen komt kijken. Ook allerlei uitdagingen die zich hierbij kunnen voordoen\, worden besproken. Je ontwikkelt vervolgens je eigen stijl (de een spint dun\, de ander dik). \n \nLet op: Deze workshop bestaat uit 3 dagdelen.\nDatum: Zaterdag 15 Maart 2025 \nInclusief: Wol\, koffie/thee/koek\nBelangrijk: Deze workshop wordt in de Expositieruimte gegeven. Het is handig om kleren aan te doen die vuil mogen worden\, want de wol is dat ook. Spinnen kan – vooral in het begin – best vermoeiend zijn\, vandaar dat we dit aanleren in 3 ochtenden. \nExtra: Na afloop van deze workshop organiseren we een workshop Wol verven met natuurlijke grondstoffen\, deze keer zijn dat uienschillen. Het is erg leuk om je eigen wol te verven. Meer info hierover volgt binnenkort. \n 
URL:https://ambachtshoeve.nu/evenement/workshop-spinnen-dagdeel-3-3-2/
LOCATION:Hoeve Groot Zandbrink\, Postweg 2\, Leusden\, Utrecht\, 3831 SE\, Nederland
CATEGORIES:Expositieruimte,Workshop
END:VEVENT
END:VCALENDAR