BEGIN:VCALENDAR
VERSION:2.0
PRODID:-//Ambachtshoeve.nu - ECPv6.15.17.1//NONSGML v1.0//EN
CALSCALE:GREGORIAN
METHOD:PUBLISH
X-WR-CALNAME:Ambachtshoeve.nu
X-ORIGINAL-URL:https://ambachtshoeve.nu
X-WR-CALDESC:Evenementen voor Ambachtshoeve.nu
REFRESH-INTERVAL;VALUE=DURATION:PT1H
X-Robots-Tag:noindex
X-PUBLISHED-TTL:PT1H
BEGIN:VTIMEZONE
TZID:Europe/Amsterdam
BEGIN:DAYLIGHT
TZOFFSETFROM:+0100
TZOFFSETTO:+0200
TZNAME:CEST
DTSTART:20240331T010000
END:DAYLIGHT
BEGIN:STANDARD
TZOFFSETFROM:+0200
TZOFFSETTO:+0100
TZNAME:CET
DTSTART:20241027T010000
END:STANDARD
BEGIN:DAYLIGHT
TZOFFSETFROM:+0100
TZOFFSETTO:+0200
TZNAME:CEST
DTSTART:20250330T010000
END:DAYLIGHT
BEGIN:STANDARD
TZOFFSETFROM:+0200
TZOFFSETTO:+0100
TZNAME:CET
DTSTART:20251026T010000
END:STANDARD
BEGIN:DAYLIGHT
TZOFFSETFROM:+0100
TZOFFSETTO:+0200
TZNAME:CEST
DTSTART:20260329T010000
END:DAYLIGHT
BEGIN:STANDARD
TZOFFSETFROM:+0200
TZOFFSETTO:+0100
TZNAME:CET
DTSTART:20261025T010000
END:STANDARD
END:VTIMEZONE
BEGIN:VEVENT
DTSTART;TZID=Europe/Amsterdam:20250201T093000
DTEND;TZID=Europe/Amsterdam:20250201T120000
DTSTAMP:20260419T204925
CREATED:20241021T101042Z
LAST-MODIFIED:20241123T102243Z
UID:3004-1738402200-1738411200@ambachtshoeve.nu
SUMMARY:Workshop Spinnen (dagdeel 3/3)
DESCRIPTION:Je maakt kennis met het spinnen met verschillende spinnenwielen. Je leert ‘trappen’. Dan ga je aan de slag en je kunt ervaren wat er allemaal bij spinnen komt kijken. Ook allerlei uitdagingen die zich hierbij kunnen voordoen\, worden besproken. Je ontwikkelt vervolgens je eigen stijl (de een spint dun\, de ander dik). \n \nLet op: Deze workshop bestaat uit 3 dagdelen.\nDatum: Zaterdag 1 Februari 2025 \nInclusief: Wol\, koffie/thee/koek\nBelangrijk: Deze workshop wordt in de Expositieruimte gegeven. Het is handig om kleren aan te doen die vuil mogen worden\, want de wol is dat ook. Spinnen kan – vooral in het begin – best vermoeiend zijn\, vandaar dat we dit aanleren in 3 ochtenden. \nExtra: Na afloop van deze workshop organiseren we een workshop Wol verven met natuurlijke grondstoffen\, deze keer zijn dat uienschillen. Het is erg leuk om je eigen wol te verven. Meer info hierover volgt binnenkort. \n 
URL:https://ambachtshoeve.nu/evenement/workshop-spinnen-dagdeel-3-3/
LOCATION:Hoeve Groot Zandbrink\, Postweg 2\, Leusden\, Utrecht\, 3831 SE\, Nederland
CATEGORIES:Expositieruimte,Workshop
END:VEVENT
BEGIN:VEVENT
DTSTART;TZID=Europe/Amsterdam:20250208T120000
DTEND;TZID=Europe/Amsterdam:20250208T170000
DTSTAMP:20260419T204925
CREATED:20241202T142430Z
LAST-MODIFIED:20241202T142905Z
UID:3217-1739016000-1739034000@ambachtshoeve.nu
SUMMARY:Workshop Lepel snijden
DESCRIPTION:Op zaterdag 8 februari 2025 organiseert Eemlepel een workshops lepel snijden waar je de fijne kneepjes van het lepel snijden leert. In een middag ga je lekker aan de slag met een vers stuk wilgen\, berken en andere inheemse houtsoorten. \n \nIn de workshop lepel snijden komen naast veiligheid en mesvaardigheid ook verschillende mesgrepen voorbij en leer je houtlezen: een taal die je nog vaak van pas kan komen.Je werkt met het lepelmes en houtsnijmes van Morakniv die beiden speciaal voor het lepel snijden zijn ontwikkeld en die beiden zeer scherp zijn. Na afloop van de cursus heb je de mogelijkheid om de messen waarmee je gewerkt hebt over te nemen voor een scherpe prijs\, zodat je thuis verder kunt werken aan je vaardigheden en je lepelverzameling kan groeien. Daarnaast nemen we ook handig slijpmateriaal mee om je gereedschap scherp te houden. \nVoor deze cursus is geen ervaring vereist. \nPrijs: € 70\,- \nMinimum leeftijd: 12 t/m 16 jaar onder begeleiding door ouder\, deelname voor kind € 35\nMaximaal aantal deelnemers: 12 \nDe workshop is inclusief vers hout\, gebruik van gereedschap en hakblok\, koffie\, thee en een vers gebakken stuk appeltaart. \n  \nWil je meedoen aan een van beide workshops stuur dan een mailtje met je naam\, adres en telefoonnummer naar info@eemlepel.nl o.v.v. Workshop lepel snijden zaterdag 8 februari. Wanneer je een Gmail account hebt check dan s.v.p je spambox. \n 
URL:https://ambachtshoeve.nu/evenement/workshop-lepel-snijden-21/
LOCATION:Hoeve Groot Zandbrink\, Postweg 2\, Leusden\, Utrecht\, 3831 SE\, Nederland
CATEGORIES:Expositieruimte,Werkschuur,Workshop
ORGANIZER;CN="Eemlepel":MAILTO:info@eemlepel.nl
END:VEVENT
BEGIN:VEVENT
DTSTART;TZID=Europe/Amsterdam:20250215T093000
DTEND;TZID=Europe/Amsterdam:20250215T160000
DTSTAMP:20260419T204925
CREATED:20250123T190116Z
LAST-MODIFIED:20250123T190116Z
UID:3286-1739611800-1739635200@ambachtshoeve.nu
SUMMARY:Workshop Eendenkorf vlechten
DESCRIPTION:Je maakt een korf van wilgentenen. \nLocatie: Hoeve Groot Zandbrink\, Postweg 2 3831 SE Leusden\, de workshop wordt binnen gegeven in de expo ruimte of bij mooi weer buiten.\nDocent: Hendrik Ruitenbeek\nData: zie kalender\nTijd: 9:30 tot 16 uur\nInclusief: koffie/thee/koek\nExclusief: Lunch\, het is fijn als je deze zelf meeneemt. Maar je kunt ook wat bestellen in ons mooie theehuis.\nKosten: €45\,00 \nJe kunt je voor deze workshop opgeven door een mail te sturen naar: contact@ambachtshoeve.nu\nPer keer kunnen maximaal 5 deelnemers meedoen. Mochten er minder zijn dan is het mogelijk dat cursus vervalt of verschoven wordt.\nNa je aanmelding krijg je zo spoedig mogelijk bericht. Je krijgt dan ook bericht over de wijze van betalen. Na ontvangst van betaling is je deelname definitief.\nHeb je nog vragen? Ook dan is je mail welkom in de mailbox van contact@ambachtshoeve.nu
URL:https://ambachtshoeve.nu/evenement/workshop-eendenkorf-vlechten-2/
LOCATION:Hoeve Groot Zandbrink\, Postweg 2\, Leusden\, Utrecht\, 3831 SE\, Nederland
CATEGORIES:Buiten activiteit,Werkschuur,Workshop
END:VEVENT
BEGIN:VEVENT
DTSTART;TZID=Europe/Amsterdam:20250215T093000
DTEND;TZID=Europe/Amsterdam:20250215T163000
DTSTAMP:20260419T204925
CREATED:20241021T101652Z
LAST-MODIFIED:20241123T102324Z
UID:3030-1739611800-1739637000@ambachtshoeve.nu
SUMMARY:Workshop Stoelmatten (dag 1/3)
DESCRIPTION:Je gaat aan de slag met je eigen stoel. Je krijgt materiaal en uitleg en je leert gaandeweg om je eigen stoel van een nieuwe zitting te voorzien. Je kunt dit in 3 zaterdagen voor elkaar krijgen. Werk je tussendoor thuis ook aan je stoel\, dan kun je deze workshop eerder afronden (er vindt dan overigens geen restitutie van een deel van het cursusgeld plaats). \nLet op: Deze workshop bestaat uit 3 dagen.\nDatum: Zaterdag 15 Februari 2025\nTijd: 09.30 – 16.30 uur\nBelangrijk: Deze workshop wordt in de Expositieruimte gegeven. Dit is een grote ruimte; het is handig om lekkere warme kleren aan te doen.\nDeze workshop gaat over het maken van een biezen zitting (dus geen gaatjes). \nMeenemen: Graag zelf een lunch meenemen. \n 
URL:https://ambachtshoeve.nu/evenement/workshop-stoelmatten-dag-1-3/
LOCATION:Hoeve Groot Zandbrink\, Postweg 2\, Leusden\, Utrecht\, 3831 SE\, Nederland
CATEGORIES:Expositieruimte,Workshop
END:VEVENT
BEGIN:VEVENT
DTSTART;TZID=Europe/Amsterdam:20250222T093000
DTEND;TZID=Europe/Amsterdam:20250222T163000
DTSTAMP:20260419T204925
CREATED:20241021T101740Z
LAST-MODIFIED:20241123T102400Z
UID:3031-1740216600-1740241800@ambachtshoeve.nu
SUMMARY:Workshop Stoelmatten (dag 2/3)
DESCRIPTION:Je gaat aan de slag met je eigen stoel. Je krijgt materiaal en uitleg en je leert gaandeweg om je eigen stoel van een nieuwe zitting te voorzien. Je kunt dit in 3 zaterdagen voor elkaar krijgen. Werk je tussendoor thuis ook aan je stoel\, dan kun je deze workshop eerder afronden (er vindt dan overigens geen restitutie van een deel van het cursusgeld plaats). \nLet op: Deze workshop bestaat uit 3 dagen.\nDatum: Zaterdag 22 Februari 2025\nTijd: 09.30 – 16.30 uur\nBelangrijk: Deze workshop wordt in de Expositieruimte gegeven. Dit is een grote ruimte; het is handig om lekkere warme kleren aan te doen.\nDeze workshop gaat over het maken van een biezen zitting (dus geen gaatjes). \nMeenemen: Graag zelf een lunch meenemen. \n 
URL:https://ambachtshoeve.nu/evenement/workshop-stoelmatten-dag-2-3/
LOCATION:Hoeve Groot Zandbrink\, Postweg 2\, Leusden\, Utrecht\, 3831 SE\, Nederland
CATEGORIES:Expositieruimte,Workshop
END:VEVENT
END:VCALENDAR