BEGIN:VCALENDAR
VERSION:2.0
PRODID:-//Ambachtshoeve.nu - ECPv6.15.17.1//NONSGML v1.0//EN
CALSCALE:GREGORIAN
METHOD:PUBLISH
X-ORIGINAL-URL:https://ambachtshoeve.nu
X-WR-CALDESC:Evenementen voor Ambachtshoeve.nu
REFRESH-INTERVAL;VALUE=DURATION:PT1H
X-Robots-Tag:noindex
X-PUBLISHED-TTL:PT1H
BEGIN:VTIMEZONE
TZID:Europe/Amsterdam
BEGIN:DAYLIGHT
TZOFFSETFROM:+0100
TZOFFSETTO:+0200
TZNAME:CEST
DTSTART:20230326T010000
END:DAYLIGHT
BEGIN:STANDARD
TZOFFSETFROM:+0200
TZOFFSETTO:+0100
TZNAME:CET
DTSTART:20231029T010000
END:STANDARD
BEGIN:DAYLIGHT
TZOFFSETFROM:+0100
TZOFFSETTO:+0200
TZNAME:CEST
DTSTART:20240331T010000
END:DAYLIGHT
BEGIN:STANDARD
TZOFFSETFROM:+0200
TZOFFSETTO:+0100
TZNAME:CET
DTSTART:20241027T010000
END:STANDARD
BEGIN:DAYLIGHT
TZOFFSETFROM:+0100
TZOFFSETTO:+0200
TZNAME:CEST
DTSTART:20250330T010000
END:DAYLIGHT
BEGIN:STANDARD
TZOFFSETFROM:+0200
TZOFFSETTO:+0100
TZNAME:CET
DTSTART:20251026T010000
END:STANDARD
END:VTIMEZONE
BEGIN:VEVENT
DTSTART;TZID=Europe/Amsterdam:20241005T093000
DTEND;TZID=Europe/Amsterdam:20241005T160000
DTSTAMP:20260420T032130
CREATED:20240508T091315Z
LAST-MODIFIED:20241124T180758Z
UID:2919-1728120600-1728144000@ambachtshoeve.nu
SUMMARY:Workshop Mandvlechten
DESCRIPTION:Je maakt een mooie mand met als basis een ronde bodem van wilgentenen vorm en grootte mag je zelf bepalen. \nDe mand moet wel in een dag afgemaakt worden omdat de wilgen tenen maar 1 keer nat gemaakt kunnen worden. \nInclusief: materiaal\, koffie/thee/koek \nExclusief: lunch\, het is fijn als je deze zelf meeneemt. \nDe workshop wordt binnen in de werkschuur gegeven of bij mooi weer buiten. \nKosten: €45\,00 \nJe kunt je voor deze workshop opgeven door een mail te sturen naar: \ncontact@ambachtshoeve.nu \n\nPer zaterdag kunnen maximaal 6 personen deelnemen. Vol is vol.\nWil je aangeven welke datum jouw eerste keuze heeft en welke jouw tweede?\nMochten er minder mensen deelnemen\, dan zullen we 1 workshop laten vervallen.\nNa je aanmelding krijg je hierover z.s.m. bericht. Je krijgt dan ook bericht over de wijze van betaling; na ontvangst van jouw betaling is je deelname definitief. \n 
URL:https://ambachtshoeve.nu/evenement/workshop-mandvlechten-3/
LOCATION:Hoeve Groot Zandbrink\, Postweg 2\, Leusden\, Utrecht\, 3831 SE\, Nederland
CATEGORIES:Buiten activiteit,Werkschuur,Workshop
END:VEVENT
BEGIN:VEVENT
DTSTART;TZID=Europe/Amsterdam:20241012T093000
DTEND;TZID=Europe/Amsterdam:20241012T163000
DTSTAMP:20260420T032130
CREATED:20240920T153238Z
LAST-MODIFIED:20241124T181140Z
UID:2983-1728725400-1728750600@ambachtshoeve.nu
SUMMARY:Workshop Vachtvilten
DESCRIPTION:Je maakt een vegetarische\, diervriendelijke vacht door een geschoren vacht op een wollen ondergrond te vilten. Het eindresultaat lijkt qua ondergrond weer op een schapenhuid\, maar is dat niet\, want het schaap leeft gewoon nog! Je kunt aan de vacht ook een andere vorm geven. Bij vachtvilten gebruik je alleen natuurlijke materialen en hulpmiddelen. We gebruiken water en zeep om de vacht te vilten; door dit met de hand te wrijven en te rollen hecht de vacht zich aan de onderlaag. Je gaat aan het einde van de workshop met een mooi gevilte schapenvacht naar huis: een uniek woonaccessoire voor op de bank\, in een stoel of aan de wand! \nInclusief: Een schapenvacht\, alle materialen om mee te werken\, koffie/thee/koek\nExclusief: Lunch. Het is fijn als je zelf je eigen lunch meeneemt. \nVerder is het handig om een grote vuilniszak of shopper mee te nemen om de natte vacht in te kunnen vervoeren. \nBelangrijk: Deze workshop wordt buiten gegeven. Als het regent\, zorgen we dat je droog kunt staan.\nJe zult een groot deel van de dag staan en met water werken. Handig om laarzen aan te doen of schoenen (en kleren) die nat mogen worden. \nInteressant: De inkomsten van deze workshops gaan voor het grootste deel naar de Stichting Schaapskudde Utrechtse Heuvelrug en komen ten goede aan de schapen. \n 
URL:https://ambachtshoeve.nu/evenement/workshop-vachtvilten-6/
LOCATION:Hoeve Groot Zandbrink\, Postweg 2\, Leusden\, Utrecht\, 3831 SE\, Nederland
CATEGORIES:Buiten activiteit,Workshop
ORGANIZER;CN="Esther Floor":MAILTO:info@schaapskuddeutrechtseheuvelrug.nl
END:VEVENT
BEGIN:VEVENT
DTSTART;TZID=Europe/Amsterdam:20241012T120000
DTEND;TZID=Europe/Amsterdam:20241012T170000
DTSTAMP:20260420T032130
CREATED:20240520T094152Z
LAST-MODIFIED:20240520T094152Z
UID:2961-1728734400-1728752400@ambachtshoeve.nu
SUMMARY:Workshop Lepel snijden
DESCRIPTION:Op zaterdag 12 oktober 2024 organiseert Eemlepel een workshops lepel snijden waar je de fijne kneepjes van het lepel snijden leert. In een middag ga je lekker aan de slag met een vers stuk wilgen\, berken en andere inheemse houtsoorten. \n \nIn de workshop lepel snijden komen naast veiligheid en mesvaardigheid ook verschillende mesgrepen voorbij en leer je houtlezen: een taal die je nog vaak van pas kan komen.Je werkt met het lepelmes en houtsnijmes van Morakniv die beiden speciaal voor het lepel snijden zijn ontwikkeld en die beiden zeer scherp zijn. Na afloop van de cursus heb je de mogelijkheid om de messen waarmee je gewerkt hebt over te nemen voor een scherpe prijs\, zodat je thuis verder kunt werken aan je vaardigheden en je lepelverzameling kan groeien. Daarnaast nemen we ook handig slijpmateriaal mee om je gereedschap scherp te houden. \nVoor deze cursus is geen ervaring vereist. \nPrijs: € 68\,- \nMinimum leeftijd: 12 t/m 16 jaar onder begeleiding door ouder\, deelname voor kind € 34\nMaximaal aantal deelnemers: 12 \nDe workshop is inclusief vers hout\, gebruik van gereedschap en hakblok\, koffie\, thee en een vers gebakken stuk appeltaart. \n  \nWil je meedoen aan een van beide workshops stuur dan een mailtje met je naam\, adres en telefoonnummer naar info@eemlepel.nl o.v.v. Workshop lepel snijden zaterdag 12 oktober. Wanneer je een Gmail account hebt check dan s.v.p je spambox. \n 
URL:https://ambachtshoeve.nu/evenement/workshop-lepel-snijden-20/
LOCATION:Hoeve Groot Zandbrink\, Postweg 2\, Leusden\, Utrecht\, 3831 SE\, Nederland
CATEGORIES:Buiten activiteit,Werkschuur,Workshop
ORGANIZER;CN="Eemlepel":MAILTO:info@eemlepel.nl
END:VEVENT
BEGIN:VEVENT
DTSTART;TZID=Europe/Amsterdam:20241019T093000
DTEND;TZID=Europe/Amsterdam:20241019T163000
DTSTAMP:20260420T032130
CREATED:20240508T091839Z
LAST-MODIFIED:20240508T092441Z
UID:2923-1729330200-1729355400@ambachtshoeve.nu
SUMMARY:Workshop Stoelen matten (dag 1/3)
DESCRIPTION:Je gaat aan de slag met je eigen stoel. Je krijgt materiaal en uitleg en je leert gaandeweg om je eigen stoel van een nieuwe zitting te voorzien. Je kunt dit in 3 zaterdagen voor elkaar krijgen. Werk je tussendoor thuis ook aan je stoel\, dan kun je deze workshop eerder afronden (er vindt dan overigens geen restitutie van een deel van het cursusgeld plaats). \nLet op: Deze workshop bestaat uit 3 dagen.\nData: Zaterdag 19 Oktober\, zaterdag 26 Oktober en zaterdag 2 December 2024\nTijd: 09.30 – 16.30 uur\nLocatie: Groot Zandbrink\, Postweg 2\, 3831 SE Leusden\nDocent: Hendrik Ruitenbeek\nInclusief: 2\,5 kilo biezen (voldoende voor 1 stoel)\, koffie/thee/koek\nBelangrijk: Deze workshop wordt in de Expositieruimte gegeven. Dit is een grote ruimte; het is handig om lekkere warme kleren aan te doen.\nDeze workshop gaat over het maken van een biezen zitting (dus geen gaatjes). \nMeenemen: Graag zelf een lunch meenemen.\nKosten: € 110\,00\nAanmelden: Je kunt je voor deze workshop opgeven door een mail te sturen naar contact@ambachtshoeve.nu \nEr kunnen maximaal 10 personen deelnemen. Als we meer aanmeldingen krijgen\, dan zullen we deze workshop opnieuw gaan organiseren.\nNa je aanmelding krijg je bericht over de wijze van betaling; na ontvangst van jouw betaling is je deelname definitief. \nHeb je nog vragen? Ook dan is je mail welkom in de mailbox van contact@ambachtshoeve.nu \n 
URL:https://ambachtshoeve.nu/evenement/workshop-stoelen-matten-dag-1/
LOCATION:Hoeve Groot Zandbrink\, Postweg 2\, Leusden\, Utrecht\, 3831 SE\, Nederland
CATEGORIES:Expositieruimte,Workshop
END:VEVENT
BEGIN:VEVENT
DTSTART;TZID=Europe/Amsterdam:20241026T093000
DTEND;TZID=Europe/Amsterdam:20241026T163000
DTSTAMP:20260420T032130
CREATED:20240508T092012Z
LAST-MODIFIED:20240508T092448Z
UID:2926-1729935000-1729960200@ambachtshoeve.nu
SUMMARY:Workshop Stoelen matten (dag 2/3)
DESCRIPTION:Je gaat aan de slag met je eigen stoel. Je krijgt materiaal en uitleg en je leert gaandeweg om je eigen stoel van een nieuwe zitting te voorzien. Je kunt dit in 3 zaterdagen voor elkaar krijgen. Werk je tussendoor thuis ook aan je stoel\, dan kun je deze workshop eerder afronden (er vindt dan overigens geen restitutie van een deel van het cursusgeld plaats). \nLet op: Deze workshop bestaat uit 3 dagen.\nData: Zaterdag 19 Oktober\, zaterdag 26 Oktober en zaterdag 2 December 2024\nTijd: 09.30 – 16.30 uur\nLocatie: Groot Zandbrink\, Postweg 2\, 3831 SE Leusden\nDocent: Hendrik Ruitenbeek\nInclusief: 2\,5 kilo biezen (voldoende voor 1 stoel)\, koffie/thee/koek\nBelangrijk: Deze workshop wordt in de Expositieruimte gegeven. Dit is een grote ruimte; het is handig om lekkere warme kleren aan te doen.\nDeze workshop gaat over het maken van een biezen zitting (dus geen gaatjes). \nMeenemen: Graag zelf een lunch meenemen.\nKosten: € 110\,00\nAanmelden: Je kunt je voor deze workshop opgeven door een mail te sturen naar contact@ambachtshoeve.nu \nEr kunnen maximaal 10 personen deelnemen. Als we meer aanmeldingen krijgen\, dan zullen we deze workshop opnieuw gaan organiseren.\nNa je aanmelding krijg je bericht over de wijze van betaling; na ontvangst van jouw betaling is je deelname definitief. \nHeb je nog vragen? Ook dan is je mail welkom in de mailbox van contact@ambachtshoeve.nu \n 
URL:https://ambachtshoeve.nu/evenement/workshop-stoelen-matten-dag-2-2/
LOCATION:Hoeve Groot Zandbrink\, Postweg 2\, Leusden\, Utrecht\, 3831 SE\, Nederland
CATEGORIES:Expositieruimte,Workshop
END:VEVENT
END:VCALENDAR