BEGIN:VCALENDAR
VERSION:2.0
PRODID:-//Ambachtshoeve.nu - ECPv6.15.17.1//NONSGML v1.0//EN
CALSCALE:GREGORIAN
METHOD:PUBLISH
X-WR-CALNAME:Ambachtshoeve.nu
X-ORIGINAL-URL:https://ambachtshoeve.nu
X-WR-CALDESC:Evenementen voor Ambachtshoeve.nu
REFRESH-INTERVAL;VALUE=DURATION:PT1H
X-Robots-Tag:noindex
X-PUBLISHED-TTL:PT1H
BEGIN:VTIMEZONE
TZID:Europe/Amsterdam
BEGIN:DAYLIGHT
TZOFFSETFROM:+0100
TZOFFSETTO:+0200
TZNAME:CEST
DTSTART:20230326T010000
END:DAYLIGHT
BEGIN:STANDARD
TZOFFSETFROM:+0200
TZOFFSETTO:+0100
TZNAME:CET
DTSTART:20231029T010000
END:STANDARD
BEGIN:DAYLIGHT
TZOFFSETFROM:+0100
TZOFFSETTO:+0200
TZNAME:CEST
DTSTART:20240331T010000
END:DAYLIGHT
BEGIN:STANDARD
TZOFFSETFROM:+0200
TZOFFSETTO:+0100
TZNAME:CET
DTSTART:20241027T010000
END:STANDARD
BEGIN:DAYLIGHT
TZOFFSETFROM:+0100
TZOFFSETTO:+0200
TZNAME:CEST
DTSTART:20250330T010000
END:DAYLIGHT
BEGIN:STANDARD
TZOFFSETFROM:+0200
TZOFFSETTO:+0100
TZNAME:CET
DTSTART:20251026T010000
END:STANDARD
END:VTIMEZONE
BEGIN:VEVENT
DTSTART;TZID=Europe/Amsterdam:20240907T093000
DTEND;TZID=Europe/Amsterdam:20240907T120000
DTSTAMP:20260420T045453
CREATED:20240505T134719Z
LAST-MODIFIED:20240508T092517Z
UID:2909-1725701400-1725710400@ambachtshoeve.nu
SUMMARY:Workshop Spinnen (dagdeel 1/3)
DESCRIPTION:Je maakt kennis met het spinnen met verschillende spinnenwielen. Je leert ‘trappen’. Dan ga je aan de slag en je kunt ervaren wat er allemaal bij spinnen komt kijken. Ook allerlei uitdagingen die zich hierbij kunnen voordoen\, worden besproken. Je ontwikkelt vervolgens je eigen stijl (de een spint dun\, de ander dik). \n \nLet op: Deze workshop bestaat uit 3 dagdelen.\nData: Zaterdag 7 September\, zaterdag 14 September en zaterdag 21 September 2024 \nInclusief: Wol\, koffie/thee/koek\nBelangrijk: Deze workshop wordt in de Expositieruimte gegeven. Het is handig om kleren aan te doen die vuil mogen worden\, want de wol is dat ook. Spinnen kan – vooral in het begin – best vermoeiend zijn\, vandaar dat we dit aanleren in 3 ochtenden. \nExtra: Na afloop van deze workshop organiseren we een workshop Wol verven met natuurlijke grondstoffen\, deze keer zijn dat uienschillen. Het is erg leuk om je eigen wol te verven. Meer info hierover volgt binnenkort. \nKosten: € 60\,00 \nJe kunt je voor deze workshop opgeven door een mail te sturen naar: \ncontact@ambachtshoeve.nu\nEr kunnen maximaal 6 personen deelnemen. Als we meer aanmeldingen krijgen\, dan zullen we deze workshop opnieuw gaan organiseren.\nNa je aanmelding krijg je bericht over de wijze van betaling; na ontvangst van jouw betaling is je deelname definitief. \n 
URL:https://ambachtshoeve.nu/evenement/workshop-spinnen-dagdeel-1-2/
LOCATION:Hoeve Groot Zandbrink\, Postweg 2\, Leusden\, Utrecht\, 3831 SE\, Nederland
CATEGORIES:Expositieruimte,Workshop
END:VEVENT
BEGIN:VEVENT
DTSTART;TZID=Europe/Amsterdam:20240914T093000
DTEND;TZID=Europe/Amsterdam:20240914T120000
DTSTAMP:20260420T045453
CREATED:20240505T134749Z
LAST-MODIFIED:20240508T092523Z
UID:2912-1726306200-1726315200@ambachtshoeve.nu
SUMMARY:Workshop Spinnen (dagdeel 2/3)
DESCRIPTION:Je maakt kennis met het spinnen met verschillende spinnenwielen. Je leert ‘trappen’. Dan ga je aan de slag en je kunt ervaren wat er allemaal bij spinnen komt kijken. Ook allerlei uitdagingen die zich hierbij kunnen voordoen\, worden besproken. Je ontwikkelt vervolgens je eigen stijl (de een spint dun\, de ander dik). \n \nLet op: Deze workshop bestaat uit 3 dagdelen.\nData: Zaterdag 7 September\, zaterdag 14 September en zaterdag 21 September 2024 \nInclusief: Wol\, koffie/thee/koek\nBelangrijk: Deze workshop wordt in de Expositieruimte gegeven. Het is handig om kleren aan te doen die vuil mogen worden\, want de wol is dat ook. Spinnen kan – vooral in het begin – best vermoeiend zijn\, vandaar dat we dit aanleren in 3 ochtenden. \nExtra: Na afloop van deze workshop organiseren we een workshop Wol verven met natuurlijke grondstoffen\, deze keer zijn dat uienschillen. Het is erg leuk om je eigen wol te verven. Meer info hierover volgt binnenkort. \nKosten: € 60\,00 \nJe kunt je voor deze workshop opgeven door een mail te sturen naar: \ncontact@ambachtshoeve.nu\nEr kunnen maximaal 6 personen deelnemen. Als we meer aanmeldingen krijgen\, dan zullen we deze workshop opnieuw gaan organiseren.\nNa je aanmelding krijg je bericht over de wijze van betaling; na ontvangst van jouw betaling is je deelname definitief. \n 
URL:https://ambachtshoeve.nu/evenement/workshop-spinnen-dagdeel-2-2/
LOCATION:Hoeve Groot Zandbrink\, Postweg 2\, Leusden\, Utrecht\, 3831 SE\, Nederland
CATEGORIES:Expositieruimte,Workshop
END:VEVENT
BEGIN:VEVENT
DTSTART;TZID=Europe/Amsterdam:20240914T120000
DTEND;TZID=Europe/Amsterdam:20240914T170000
DTSTAMP:20260420T045453
CREATED:20240520T093851Z
LAST-MODIFIED:20240520T093851Z
UID:2958-1726315200-1726333200@ambachtshoeve.nu
SUMMARY:Workshop Lepel snijden
DESCRIPTION:Op zaterdag 14 september 2024 organiseert Eemlepel een workshops lepel snijden waar je de fijne kneepjes van het lepel snijden leert. In een middag ga je lekker aan de slag met een vers stuk wilgen\, berken en andere inheemse houtsoorten. \n \nIn de workshop lepel snijden komen naast veiligheid en mesvaardigheid ook verschillende mesgrepen voorbij en leer je houtlezen: een taal die je nog vaak van pas kan komen.Je werkt met het lepelmes en houtsnijmes van Morakniv die beiden speciaal voor het lepel snijden zijn ontwikkeld en die beiden zeer scherp zijn. Na afloop van de cursus heb je de mogelijkheid om de messen waarmee je gewerkt hebt over te nemen voor een scherpe prijs\, zodat je thuis verder kunt werken aan je vaardigheden en je lepelverzameling kan groeien. Daarnaast nemen we ook handig slijpmateriaal mee om je gereedschap scherp te houden. \nVoor deze cursus is geen ervaring vereist. \nPrijs: € 68\,- \nMinimum leeftijd: 12 t/m 16 jaar onder begeleiding door ouder\, deelname voor kind € 34\nMaximaal aantal deelnemers: 12 \nDe workshop is inclusief vers hout\, gebruik van gereedschap en hakblok\, koffie\, thee en een vers gebakken stuk appeltaart. \n  \nWil je meedoen aan een van beide workshops stuur dan een mailtje met je naam\, adres en telefoonnummer naar info@eemlepel.nl o.v.v. Workshop lepel snijden zaterdag 14 september. Wanneer je een Gmail account hebt check dan s.v.p je spambox. \n 
URL:https://ambachtshoeve.nu/evenement/workshop-lepel-snijden-19/
LOCATION:Hoeve Groot Zandbrink\, Postweg 2\, Leusden\, Utrecht\, 3831 SE\, Nederland
CATEGORIES:Buiten activiteit,Werkschuur,Workshop
ORGANIZER;CN="Eemlepel":MAILTO:info@eemlepel.nl
END:VEVENT
BEGIN:VEVENT
DTSTART;TZID=Europe/Amsterdam:20240921T093000
DTEND;TZID=Europe/Amsterdam:20240921T120000
DTSTAMP:20260420T045453
CREATED:20240505T134821Z
LAST-MODIFIED:20240508T092528Z
UID:2915-1726911000-1726920000@ambachtshoeve.nu
SUMMARY:Workshop Spinnen (dagdeel 3/3)
DESCRIPTION:Je maakt kennis met het spinnen met verschillende spinnenwielen. Je leert ‘trappen’. Dan ga je aan de slag en je kunt ervaren wat er allemaal bij spinnen komt kijken. Ook allerlei uitdagingen die zich hierbij kunnen voordoen\, worden besproken. Je ontwikkelt vervolgens je eigen stijl (de een spint dun\, de ander dik). \n \nLet op: Deze workshop bestaat uit 3 dagdelen.\nData: Zaterdag 7 September\, zaterdag 14 September en zaterdag 21 September 2024 \nInclusief: Wol\, koffie/thee/koek\nBelangrijk: Deze workshop wordt in de Expositieruimte gegeven. Het is handig om kleren aan te doen die vuil mogen worden\, want de wol is dat ook. Spinnen kan – vooral in het begin – best vermoeiend zijn\, vandaar dat we dit aanleren in 3 ochtenden. \nExtra: Na afloop van deze workshop organiseren we een workshop Wol verven met natuurlijke grondstoffen\, deze keer zijn dat uienschillen. Het is erg leuk om je eigen wol te verven. Meer info hierover volgt binnenkort. \nKosten: € 60\,00 \nJe kunt je voor deze workshop opgeven door een mail te sturen naar: \ncontact@ambachtshoeve.nu\nEr kunnen maximaal 6 personen deelnemen. Als we meer aanmeldingen krijgen\, dan zullen we deze workshop opnieuw gaan organiseren.\nNa je aanmelding krijg je bericht over de wijze van betaling; na ontvangst van jouw betaling is je deelname definitief. \n 
URL:https://ambachtshoeve.nu/evenement/workshop-spinnen-dagdeel-3-2/
LOCATION:Hoeve Groot Zandbrink\, Postweg 2\, Leusden\, Utrecht\, 3831 SE\, Nederland
CATEGORIES:Expositieruimte,Workshop
END:VEVENT
BEGIN:VEVENT
DTSTART;TZID=Europe/Amsterdam:20240928T093000
DTEND;TZID=Europe/Amsterdam:20240928T163000
DTSTAMP:20260420T045453
CREATED:20240709T142710Z
LAST-MODIFIED:20240709T142710Z
UID:2979-1727515800-1727541000@ambachtshoeve.nu
SUMMARY:Workshop Vachtvilten
DESCRIPTION:Je maakt een vegetarische\, diervriendelijke vacht door een geschoren vacht op een wollen ondergrond te vilten. Het eindresultaat lijkt qua ondergrond weer op een schapenhuid\, maar is dat niet\, want het schaap leeft gewoon nog! Je kunt aan de vacht ook een andere vorm geven. Bij vachtvilten gebruik je alleen natuurlijke materialen en hulpmiddelen. We gebruiken water en zeep om de vacht te vilten; door dit met de hand te wrijven en te rollen hecht de vacht zich aan de onderlaag. Je gaat aan het einde van de workshop met een mooi gevilte schapenvacht naar huis: een uniek woonaccessoire voor op de bank\, in een stoel of aan de wand! \nInclusief: Een schapenvacht\, alle materialen om mee te werken\, koffie/thee/koek\nExclusief: Lunch. Het is fijn als je zelf je eigen lunch meeneemt. \nVerder is het handig om een grote vuilniszak of shopper mee te nemen om de natte vacht in te kunnen vervoeren. \nBelangrijk: Deze workshop wordt buiten gegeven. Als het regent\, zorgen we dat je droog kunt staan.\nJe zult een groot deel van de dag staan en met water werken. Handig om laarzen aan te doen of schoenen (en kleren) die nat mogen worden. \nKosten: € 95\,00\nInteressant: De inkomsten van deze workshops gaan voor het grootste deel naar de Stichting Schaapskudde Utrechtse Heuvelrug en komen ten goede aan de schapen. \nJe kunt je voor deze workshop opgeven door een mail te sturen naar: \ncontact@ambachtshoeve.nu\nPer zaterdag kunnen maximaal 8 personen deelnemen. Vol is vol.\nWil je aangeven welke datum jouw eerste keuze heeft en welke jouw tweede?\nMochten er minder mensen deelnemen\, dan zullen we 1 workshop laten vervallen.\nNa je aanmelding krijg je hierover z.s.m. bericht. Je krijgt dan ook bericht over de wijze van betaling; na ontvangst van jouw betaling is je deelname definitief. \n 
URL:https://ambachtshoeve.nu/evenement/workshop-vachtvilten-5/
LOCATION:Hoeve Groot Zandbrink\, Postweg 2\, Leusden\, Utrecht\, 3831 SE\, Nederland
CATEGORIES:Buiten activiteit,Workshop
ORGANIZER;CN="Esther Floor":MAILTO:info@schaapskuddeutrechtseheuvelrug.nl
END:VEVENT
END:VCALENDAR