BEGIN:VCALENDAR
VERSION:2.0
PRODID:-//Ambachtshoeve.nu - ECPv6.15.17.1//NONSGML v1.0//EN
CALSCALE:GREGORIAN
METHOD:PUBLISH
X-WR-CALNAME:Ambachtshoeve.nu
X-ORIGINAL-URL:https://ambachtshoeve.nu
X-WR-CALDESC:Evenementen voor Ambachtshoeve.nu
REFRESH-INTERVAL;VALUE=DURATION:PT1H
X-Robots-Tag:noindex
X-PUBLISHED-TTL:PT1H
BEGIN:VTIMEZONE
TZID:Europe/Amsterdam
BEGIN:DAYLIGHT
TZOFFSETFROM:+0100
TZOFFSETTO:+0200
TZNAME:CEST
DTSTART:20240331T010000
END:DAYLIGHT
BEGIN:STANDARD
TZOFFSETFROM:+0200
TZOFFSETTO:+0100
TZNAME:CET
DTSTART:20241027T010000
END:STANDARD
BEGIN:DAYLIGHT
TZOFFSETFROM:+0100
TZOFFSETTO:+0200
TZNAME:CEST
DTSTART:20250330T010000
END:DAYLIGHT
BEGIN:STANDARD
TZOFFSETFROM:+0200
TZOFFSETTO:+0100
TZNAME:CET
DTSTART:20251026T010000
END:STANDARD
BEGIN:DAYLIGHT
TZOFFSETFROM:+0100
TZOFFSETTO:+0200
TZNAME:CEST
DTSTART:20260329T010000
END:DAYLIGHT
BEGIN:STANDARD
TZOFFSETFROM:+0200
TZOFFSETTO:+0100
TZNAME:CET
DTSTART:20261025T010000
END:STANDARD
END:VTIMEZONE
BEGIN:VEVENT
DTSTART;TZID=Europe/Amsterdam:20250517T093000
DTEND;TZID=Europe/Amsterdam:20250517T160000
DTSTAMP:20260419T173041
CREATED:20250417T191743Z
LAST-MODIFIED:20250417T192747Z
UID:3320-1747474200-1747497600@ambachtshoeve.nu
SUMMARY:Workshop Smeden
DESCRIPTION:De workshop is voor iedereen die wil kennismaken met smeden of als je al eens gesmeed hebt maar er geen genoeg van kunt krijgen. \nSmeden is een oude ambacht waar handvaardigheid\, oog-hand-coordinatie en creativiteit veel van je vragen. \nIn deze workshop beginnen we de dag eenvoudig met enkele basisvaardigheden zoals rond en vierkant smeden\, puntje maken en vormen. Hieraan zullen drijven\, innemen\, pennen en ponsen toevoegen. Natuurlijk gaat het niet alleen om de technieken maar vooral ook om iets te maken en mee naar huis te kunnen nemen. Dus na de oefening van een of meer van de technieken gaan jullie ze toepassen op een geschikt werkstukje. \nTijd: 9:30-16:00 uur \nLocatie: Hoeve Groot Zandbrink\, Postweg 2 3831 SE leusden\nDocent: Thijs Nagtegaal \nBelangrijk: De workshop buiten gegeven. Bij erg slecht weer zullen we de workshop moeten annuleren; in overleg zal een andere datum aangeboden worden of restitutie plaatsvinden.\nMeenemen: Graag zelf je eigen lunch meenemen\, voor koffie en thee wordt gezorgd. Maar je kunt ook iets kopen in ons mooie theehuis.\nKosten: 70\,00 euro\nAanmelden of vragen: stuur een mail naar contact@ambachtshoeve.nu \nMaximum aantal deelnemers: 6 \nKleding/bescherming: werk-/kluskleding (katoen is meest brandveilig)\, eventueel gehoorbescherming en leren handschoen(en); veiligheidsbrillen/schorten zijn aanwezig. \n  \n 
URL:https://ambachtshoeve.nu/evenement/workshop-smeden/
LOCATION:Hoeve Groot Zandbrink\, Postweg 2\, Leusden\, Utrecht\, 3831 SE\, Nederland
CATEGORIES:Buiten activiteit,Workshop
ORGANIZER;CN="Thijs Nagtegal":MAILTO:info@smederij-nagtegaal.nl
END:VEVENT
BEGIN:VEVENT
DTSTART;TZID=Europe/Amsterdam:20250517T093000
DTEND;TZID=Europe/Amsterdam:20250517T163000
DTSTAMP:20260419T173041
CREATED:20241021T101458Z
LAST-MODIFIED:20241124T181031Z
UID:3027-1747474200-1747499400@ambachtshoeve.nu
SUMMARY:Workshop Vachtvilten
DESCRIPTION:Je maakt een vegetarische\, diervriendelijke vacht door een geschoren vacht op een wollen ondergrond te vilten. Het eindresultaat lijkt qua ondergrond weer op een schapenhuid\, maar is dat niet\, want het schaap leeft gewoon nog! Je kunt aan de vacht ook een andere vorm geven. Bij vachtvilten gebruik je alleen natuurlijke materialen en hulpmiddelen. We gebruiken water en zeep om de vacht te vilten; door dit met de hand te wrijven en te rollen hecht de vacht zich aan de onderlaag. Je gaat aan het einde van de workshop met een mooi gevilte schapenvacht naar huis: een uniek woonaccessoire voor op de bank\, in een stoel of aan de wand! \nInclusief: Een schapenvacht\, alle materialen om mee te werken\, koffie/thee/koek\nExclusief: Lunch. Het is fijn als je zelf je eigen lunch meeneemt. \nVerder is het handig om een grote vuilniszak of shopper mee te nemen om de natte vacht in te kunnen vervoeren. \nBelangrijk: Deze workshop wordt buiten gegeven. Als het regent\, zorgen we dat je droog kunt staan.\nJe zult een groot deel van de dag staan en met water werken. Handig om laarzen aan te doen of schoenen (en kleren) die nat mogen worden. \nInteressant: De inkomsten van deze workshops gaan voor het grootste deel naar de Stichting Schaapskudde Utrechtse Heuvelrug en komen ten goede aan de schapen. \n 
URL:https://ambachtshoeve.nu/evenement/workshop-vachtvilten-8/
LOCATION:Hoeve Groot Zandbrink\, Postweg 2\, Leusden\, Utrecht\, 3831 SE\, Nederland
CATEGORIES:Buiten activiteit,Workshop
ORGANIZER;CN="Esther Floor":MAILTO:info@schaapskuddeutrechtseheuvelrug.nl
END:VEVENT
END:VCALENDAR