BEGIN:VCALENDAR
VERSION:2.0
PRODID:-//Ambachtshoeve.nu - ECPv6.15.17.1//NONSGML v1.0//EN
CALSCALE:GREGORIAN
METHOD:PUBLISH
X-WR-CALNAME:Ambachtshoeve.nu
X-ORIGINAL-URL:https://ambachtshoeve.nu
X-WR-CALDESC:Evenementen voor Ambachtshoeve.nu
REFRESH-INTERVAL;VALUE=DURATION:PT1H
X-Robots-Tag:noindex
X-PUBLISHED-TTL:PT1H
BEGIN:VTIMEZONE
TZID:Europe/Amsterdam
BEGIN:DAYLIGHT
TZOFFSETFROM:+0100
TZOFFSETTO:+0200
TZNAME:CEST
DTSTART:20240331T010000
END:DAYLIGHT
BEGIN:STANDARD
TZOFFSETFROM:+0200
TZOFFSETTO:+0100
TZNAME:CET
DTSTART:20241027T010000
END:STANDARD
BEGIN:DAYLIGHT
TZOFFSETFROM:+0100
TZOFFSETTO:+0200
TZNAME:CEST
DTSTART:20250330T010000
END:DAYLIGHT
BEGIN:STANDARD
TZOFFSETFROM:+0200
TZOFFSETTO:+0100
TZNAME:CET
DTSTART:20251026T010000
END:STANDARD
BEGIN:DAYLIGHT
TZOFFSETFROM:+0100
TZOFFSETTO:+0200
TZNAME:CEST
DTSTART:20260329T010000
END:DAYLIGHT
BEGIN:STANDARD
TZOFFSETFROM:+0200
TZOFFSETTO:+0100
TZNAME:CET
DTSTART:20261025T010000
END:STANDARD
END:VTIMEZONE
BEGIN:VEVENT
DTSTART;TZID=Europe/Amsterdam:20250510T093000
DTEND;TZID=Europe/Amsterdam:20250510T160000
DTSTAMP:20260419T173051
CREATED:20241031T094323Z
LAST-MODIFIED:20241124T180715Z
UID:3063-1746869400-1746892800@ambachtshoeve.nu
SUMMARY:Workshop Mandvlechten
DESCRIPTION:Je maakt een mooie mand met als basis een ronde bodem van wilgentenen vorm en grootte mag je zelf bepalen. \nDe mand moet wel in een dag afgemaakt worden omdat de wilgen tenen maar 1 keer nat gemaakt kunnen worden. \nInclusief: materiaal\, koffie/thee/koek \nExclusief: lunch\, het is fijn als je deze zelf meeneemt. \nDe workshop wordt binnen in de werkschuur gegeven of bij mooi weer buiten. \nKosten: €45\,00 \nJe kunt je voor deze workshop opgeven door een mail te sturen naar: \ncontact@ambachtshoeve.nu \n\nPer zaterdag kunnen maximaal 6 personen deelnemen. Vol is vol.\nWil je aangeven welke datum jouw eerste keuze heeft en welke jouw tweede?\nMochten er minder mensen deelnemen\, dan zullen we 1 workshop laten vervallen.\nNa je aanmelding krijg je hierover z.s.m. bericht. Je krijgt dan ook bericht over de wijze van betaling; na ontvangst van jouw betaling is je deelname definitief. \n 
URL:https://ambachtshoeve.nu/evenement/workshop-mandvlechten-6/
LOCATION:Hoeve Groot Zandbrink\, Postweg 2\, Leusden\, Utrecht\, 3831 SE\, Nederland
CATEGORIES:Buiten activiteit,Werkschuur,Workshop
END:VEVENT
BEGIN:VEVENT
DTSTART;TZID=Europe/Amsterdam:20250510T110000
DTEND;TZID=Europe/Amsterdam:20250510T130000
DTSTAMP:20260419T173051
CREATED:20250313T112643Z
LAST-MODIFIED:20250313T113013Z
UID:3304-1746874800-1746882000@ambachtshoeve.nu
SUMMARY:Lezing/wandeling Drachtplanten en bijen
DESCRIPTION:Tijd: 11.00u tot 13.00u \nLocatie: Groot Zandbrink\, Postweg 2\, 3831 SE leusden \nDocent: Onze ervaren imker \nInhoud: De bloemen van drachtplanten (kunnen boom\, struik of wilde- of tuinplanten zijn) zijn voor zowel honing- als wilde bijen een levensbehoefte. Drachtbloemen leveren stuifmeel (pollen) en nectar op. De imker heeft het alleen over drachtplanten die bevlogen worden door de honingbijen. Voor mensen tevens een voedselbron\, omdat door dat bevliegen van insecten er kruisbestuiving ontstaat waardoor ook vruchtopbrengsten tot stand komen. \nOnze honingbij is bloemvast. Speurbijen van de honingbij beoordelen de nectar- en pollenwaarde en er moet een voldoende hoeveelheid bloeien\,zodat een vlucht daarheen ook rendeert. \nBij de solitaire wilde bijen (350 soorten) kunnen er soorten zijn die heel selectief zijn bij de keuze van de bloemsoort. Bijen en veel insecten hebben het moeilijk. Bijvoorbeeld: in weilanden worden weinig bloemen getolereerd vanwege een mindere hoeveelheid grasopbrengst of andersoortig gewas. De bloeiperiode in een fruitboomgaard of andere teelten is kort. Gunstig voor de kweker\, maar bijen moeten het hele jaar door voedsel hebben en opslaan. Ook het verkleinen van bermen\, verstening van veel plekken (industrie- en kantoorcomplexen\, erven en tuinen van huizen) is nadelig. \nMet z’n allen kunnen we er veel aan doen om die negatieve ontwikkeling te doorbreken. \nOnze imker kan daar veel over vertellen. De cursusdag begint met een presentatie aan de hand van een video\, platen en op een veilige wijze kennis maken met (honing-) bijen in kasten op de bijenstand en een wandeling in de bloemrijke omgeving. \nInclusief: Koffie/thee/koek \nKosten: € 15\,00 \n De opbrengsten worden gebruikt voor imkermateriaal \nAanmelden: Je kunt je voor deze ochtend aanmelden door een mail te sturen naar: contact@ambachtshoeve.nu \n Er kunnen maximaal 7 personen deelnemen. Na je aanmelding krijg je bericht over de wijze van betaling; na ontvangst van jouw betaling is je deelname definitief. \n  \nHeb je nog vragen? Ook dan is je mail welkom in de mailbox van contact@ambachtshoeve.nu \nWe hopen je binnenkort te mogen begroeten \nVriendelijke groet \nJosephine Greefhorst
URL:https://ambachtshoeve.nu/evenement/lezing-wandeling-drachtplanten-en-bijen/
LOCATION:Hoeve Groot Zandbrink\, Postweg 2\, Leusden\, Utrecht\, 3831 SE\, Nederland
END:VEVENT
BEGIN:VEVENT
DTSTART;TZID=Europe/Amsterdam:20250510T120000
DTEND;TZID=Europe/Amsterdam:20250510T170000
DTSTAMP:20260419T173051
CREATED:20241202T143007Z
LAST-MODIFIED:20241202T143047Z
UID:3225-1746878400-1746896400@ambachtshoeve.nu
SUMMARY:Workshop Lepel snijden
DESCRIPTION:Op zaterdag 10 mei 2025 organiseert Eemlepel een workshops lepel snijden waar je de fijne kneepjes van het lepel snijden leert. In een middag ga je lekker aan de slag met een vers stuk wilgen\, berken en andere inheemse houtsoorten. \n \nIn de workshop lepel snijden komen naast veiligheid en mesvaardigheid ook verschillende mesgrepen voorbij en leer je houtlezen: een taal die je nog vaak van pas kan komen.Je werkt met het lepelmes en houtsnijmes van Morakniv die beiden speciaal voor het lepel snijden zijn ontwikkeld en die beiden zeer scherp zijn. Na afloop van de cursus heb je de mogelijkheid om de messen waarmee je gewerkt hebt over te nemen voor een scherpe prijs\, zodat je thuis verder kunt werken aan je vaardigheden en je lepelverzameling kan groeien. Daarnaast nemen we ook handig slijpmateriaal mee om je gereedschap scherp te houden. \nVoor deze cursus is geen ervaring vereist. \nPrijs: € 70\,- \nMinimum leeftijd: 12 t/m 16 jaar onder begeleiding door ouder\, deelname voor kind € 35\nMaximaal aantal deelnemers: 12 \nDe workshop is inclusief vers hout\, gebruik van gereedschap en hakblok\, koffie\, thee en een vers gebakken stuk appeltaart. \n  \nWil je meedoen aan een van beide workshops stuur dan een mailtje met je naam\, adres en telefoonnummer naar info@eemlepel.nl o.v.v. Workshop lepel snijden zaterdag 10 mei. Wanneer je een Gmail account hebt check dan s.v.p je spambox. \n 
URL:https://ambachtshoeve.nu/evenement/workshop-lepel-snijden-24/
LOCATION:Hoeve Groot Zandbrink\, Postweg 2\, Leusden\, Utrecht\, 3831 SE\, Nederland
CATEGORIES:Expositieruimte,Werkschuur,Workshop
ORGANIZER;CN="Eemlepel":MAILTO:info@eemlepel.nl
END:VEVENT
END:VCALENDAR