BEGIN:VCALENDAR
VERSION:2.0
PRODID:-//Ambachtshoeve.nu - ECPv6.15.17.1//NONSGML v1.0//EN
CALSCALE:GREGORIAN
METHOD:PUBLISH
X-ORIGINAL-URL:https://ambachtshoeve.nu
X-WR-CALDESC:Evenementen voor Ambachtshoeve.nu
REFRESH-INTERVAL;VALUE=DURATION:PT1H
X-Robots-Tag:noindex
X-PUBLISHED-TTL:PT1H
BEGIN:VTIMEZONE
TZID:Europe/Amsterdam
BEGIN:DAYLIGHT
TZOFFSETFROM:+0100
TZOFFSETTO:+0200
TZNAME:CEST
DTSTART:20240331T010000
END:DAYLIGHT
BEGIN:STANDARD
TZOFFSETFROM:+0200
TZOFFSETTO:+0100
TZNAME:CET
DTSTART:20241027T010000
END:STANDARD
BEGIN:DAYLIGHT
TZOFFSETFROM:+0100
TZOFFSETTO:+0200
TZNAME:CEST
DTSTART:20250330T010000
END:DAYLIGHT
BEGIN:STANDARD
TZOFFSETFROM:+0200
TZOFFSETTO:+0100
TZNAME:CET
DTSTART:20251026T010000
END:STANDARD
BEGIN:DAYLIGHT
TZOFFSETFROM:+0100
TZOFFSETTO:+0200
TZNAME:CEST
DTSTART:20260329T010000
END:DAYLIGHT
BEGIN:STANDARD
TZOFFSETFROM:+0200
TZOFFSETTO:+0100
TZNAME:CET
DTSTART:20261025T010000
END:STANDARD
END:VTIMEZONE
BEGIN:VEVENT
DTSTART;TZID=Europe/Amsterdam:20250419T093000
DTEND;TZID=Europe/Amsterdam:20250419T163000
DTSTAMP:20260419T190634
CREATED:20250313T112049Z
LAST-MODIFIED:20250313T112049Z
UID:3298-1745055000-1745080200@ambachtshoeve.nu
SUMMARY:Workshop Vachtvilten
DESCRIPTION:Je maakt een vegetarische\, diervriendelijke vacht door een geschoren vacht op een wollen ondergrond te vilten. Het eindresultaat lijkt qua ondergrond weer op een schapenhuid\, maar is dat niet\, want het schaap leeft gewoon nog! Je kunt aan de vacht ook een andere vorm geven. Bij vachtvilten gebruik je alleen natuurlijke materialen en hulpmiddelen. We gebruiken water en zeep om de vacht te vilten; door dit met de hand te wrijven en te rollen hecht de vacht zich aan de onderlaag. Je gaat aan het einde van de workshop met een mooi gevilte schapenvacht naar huis: een uniek woonaccessoire voor op de bank\, in een stoel of aan de wand! \nInclusief: Een schapenvacht\, alle materialen om mee te werken\, koffie/thee/koek\nExclusief: Lunch. Het is fijn als je zelf je eigen lunch meeneemt. \nVerder is het handig om een grote vuilniszak of shopper mee te nemen om de natte vacht in te kunnen vervoeren. \nBelangrijk: Deze workshop wordt buiten gegeven. Als het regent\, zorgen we dat je droog kunt staan.\nJe zult een groot deel van de dag staan en met water werken. Handig om laarzen aan te doen of schoenen (en kleren) die nat mogen worden. \nInteressant: De inkomsten van deze workshops gaan voor het grootste deel naar de Stichting Schaapskudde Utrechtse Heuvelrug en komen ten goede aan de schapen. \n 
URL:https://ambachtshoeve.nu/evenement/workshop-vachtvilten/
LOCATION:Hoeve Groot Zandbrink\, Postweg 2\, Leusden\, Utrecht\, 3831 SE\, Nederland
CATEGORIES:Buiten activiteit,Workshop
ORGANIZER;CN="Esther Floor":MAILTO:info@schaapskuddeutrechtseheuvelrug.nl
END:VEVENT
END:VCALENDAR