BEGIN:VCALENDAR
VERSION:2.0
PRODID:-//Ambachtshoeve.nu - ECPv6.15.17.1//NONSGML v1.0//EN
CALSCALE:GREGORIAN
METHOD:PUBLISH
X-WR-CALNAME:Ambachtshoeve.nu
X-ORIGINAL-URL:https://ambachtshoeve.nu
X-WR-CALDESC:Evenementen voor Ambachtshoeve.nu
REFRESH-INTERVAL;VALUE=DURATION:PT1H
X-Robots-Tag:noindex
X-PUBLISHED-TTL:PT1H
BEGIN:VTIMEZONE
TZID:Europe/Amsterdam
BEGIN:DAYLIGHT
TZOFFSETFROM:+0100
TZOFFSETTO:+0200
TZNAME:CEST
DTSTART:20230326T010000
END:DAYLIGHT
BEGIN:STANDARD
TZOFFSETFROM:+0200
TZOFFSETTO:+0100
TZNAME:CET
DTSTART:20231029T010000
END:STANDARD
BEGIN:DAYLIGHT
TZOFFSETFROM:+0100
TZOFFSETTO:+0200
TZNAME:CEST
DTSTART:20240331T010000
END:DAYLIGHT
BEGIN:STANDARD
TZOFFSETFROM:+0200
TZOFFSETTO:+0100
TZNAME:CET
DTSTART:20241027T010000
END:STANDARD
BEGIN:DAYLIGHT
TZOFFSETFROM:+0100
TZOFFSETTO:+0200
TZNAME:CEST
DTSTART:20250330T010000
END:DAYLIGHT
BEGIN:STANDARD
TZOFFSETFROM:+0200
TZOFFSETTO:+0100
TZNAME:CET
DTSTART:20251026T010000
END:STANDARD
END:VTIMEZONE
BEGIN:VEVENT
DTSTART;VALUE=DATE:20240824
DTEND;VALUE=DATE:20240825
DTSTAMP:20260420T075715
CREATED:20240109T145835Z
LAST-MODIFIED:20240505T135524Z
UID:2877-1724457600-1724543999@ambachtshoeve.nu
SUMMARY:Oogstfeest
DESCRIPTION:Jaarlijks wordt aan het einde van de zomer een oogstfeest georganiseerd.\nTijdens deze leuke buitendag zijn er demonstraties over werken met paarden Er zijn diverse demonstraties oude ambachten die op de Ambachtshoeve  spring levend zijn waaronder Smeden door smederij Nagtegaal en Lepelsnijden door Eemlepel. \nNatuurlijk zijn er diverse leuke activitieten voor kinderen zoals schminken en pannekoeken bakken. Kinderen moeten eerst zelf de ingredienten verzamelen waarna een lekkere pannekoek wordt gebakken.\nEn ook aan de inwendige mens is volop gedacht. \nHet Oogstfeest vindt plaats op Hoeve Groot Zandbrink.\nToegang en parkeren zijn gratis.
URL:https://ambachtshoeve.nu/evenement/oogstfeest-2/
LOCATION:Hoeve Groot Zandbrink\, Postweg 2\, Leusden\, Utrecht\, 3831 SE\, Nederland
CATEGORIES:Buiten activiteit,Evenement
END:VEVENT
END:VCALENDAR